Workbook
Name L_AREAS: Listas!$B$2:$B$6
Name L_LINEAS: Listas!$C$2:$C$27
Name L_MARCADOR: Listas!$E$2:$E$5
Name L_MODALIDADES: Listas!$A$2:$A$11
Name L_ODS: Listas!$D$2:$D$18
Name L_PAIS: Listas!$H$2:$H$3
Name L_SINO: Listas!$F$2:$F$3
Name LINEAS_A1: Listas!$C$2:$C$6
Name LINEAS_A2: Listas!$C$7:$C$15
Name LINEAS_A3: Listas!$C$16:$C$21
Name LINEAS_A4: Listas!$C$22:$C$25
Name LINEAS_A5: Listas!$C$26:$C$27
Name M_ODS_1: 'METAS ODS'!$A$31:$A$37
Name M_ODS_10: 'METAS ODS'!$A$111:$A$120
Name M_ODS_11: 'METAS ODS'!$A$121:$A$130
Name M_ODS_12: 'METAS ODS'!$A$131:$A$141
Name M_ODS_13: 'METAS ODS'!$A$142:$A$146
Name M_ODS_14: 'METAS ODS'!$A$147:$A$156
Name M_ODS_15: 'METAS ODS'!$A$157:$A$168
Name M_ODS_16: 'METAS ODS'!$A$169:$A$180
Name M_ODS_17: 'METAS ODS'!$A$181:$A$199
Name M_ODS_2: 'METAS ODS'!$A$38:$A$45
Name M_ODS_3: 'METAS ODS'!$A$46:$A$58
Name M_ODS_4: 'METAS ODS'!$A$59:$A$68
Name M_ODS_5: 'METAS ODS'!$A$69:$A$77
Name M_ODS_6: 'METAS ODS'!$A$78:$A$85
Name M_ODS_7: 'METAS ODS'!$A$86:$A$90
Name M_ODS_8: 'METAS ODS'!$A$91:$A$102
Name M_ODS_9: 'METAS ODS'!$A$103:$A$110

Sheet ÍNDICE
A1: FONDO CONJUNTO DE COOPERACIÓN CHILE – MÉXICO
A2: FORMATO ÚNICO DE POSTULACIÓN DE PROYECTOS · CONVOCATORIA 2026 — ÍNDICE E INSTRUCCIONES
A4: ÍNDICE DEL FORMATO
A5: Hoja | B5: Contenido | C5: Procedimiento de llenado
A6: 1. IDENTIFICACIÓN | B6: Datos generales del proyecto: título, área temática y línea de cooperación, ODS prioritario y su meta, ODS complementario, duración, proponentes de México y Chile e institución asociada. | C6: Llenado por las instituciones postulantes (celdas celestes). Las listas de líneas de cooperación y de metas ODS se filtran automáticamente según el área temática y el ODS seleccionados.
A7: 2. JUSTIFICACIÓN | B7: Contexto del proyecto, problemática específica (línea base) y análisis de desigualdad, por país (apartados 2.1 a 2.3). | C7: Llenado narrativo, máximo ½ página por subsección y por país, con datos estadísticos y fuentes verificables.
A8: 3. ESTRUCTURACIÓN | B8: Estrategia de intervención, vinculación con políticas públicas y ODS, actores, beneficiarios/as, localización, sostenibilidad y seguimiento (apartados 3.1 a 3.9). | C8: Construcción conjunta entre ambas instituciones.
A9: 4. MARCO LÓGICO | B9: Matriz de marco lógico: objetivos, resultados y actividades con indicadores, metas intermedia y final, medios de verificación y supuestos. | C9: El título se traslada automáticamente desde la hoja 1. El Objetivo General y el Objetivo del Proyecto SE COMPLETAN AQUÍ (hoja 4 Marco Lógico) y se trasladan automáticamente a la hoja 5 POG y a la hoja 6 Ficha Resumen. En el marco lógico existe espacio para 4 resultados y 5 actividades por resultado; puede insertar filas adicionales. En caso de agregar nuevas filas, debe asegurarse se refleje en los espacios de las hojas vinculadas y de la correcta suma de los montos asociados en cada apartado. Para mayor información ver hoja «ORIENTACIONES ML»
A10: 5. POG | B10: Plan Operativo Global: insumos por actividad, modalidad, costos por país, aporte de contraparte, cronograma Año 1 / Año 2, indicadores y responsables. | C10: Los títulos de resultados y actividades se trasladan automáticamente desde el Marco Lógico. Complete insumos, costos, modalidad (lista desplegable) y meses con «X». El Panel de Control verifica los límites automáticamente. Para mayor información ver hoja «ORIENTACIONES POG»
A11: 6. FICHA RESUMEN | B11: Resumen ejecutivo del proyecto y verificación de coherencia presupuestaria. | C11: Se genera automáticamente. No requiere llenado; verifíquela antes de enviar. Si algún dato no se autocompletó, se debe agregar manualmente.
A12: METAS ODS | B12: Metas de la Agenda 2030: despliegue automático de las metas del ODS prioritario seleccionado y tabla completa de referencia. | C12: Hoja de consulta; alimenta la lista desplegable de la meta específica en la hoja 1.
A13: ORIENTACIONES ML | B13: Orientaciones generales para la formulación del Marco Lógico. | C13: Hoja de consulta.
A14: ORIENTACIONES POG | B14: Orientaciones generales para la elaboración del POG. | C14: Hoja de consulta.
A15: DEFINICIÓN DE MODALIDADES | B15: Modalidades de cooperación, rubros financiables, definiciones y topes. | C15: Hoja de consulta.
A16: EJEMPLO ML | B16: Ejemplo orientador de Marco Lógico. | C16: Hoja de consulta.
A18: PROCEDIMIENTO DE LLENADO
A19: Paso 1 | B19: Complete la hoja «1. IDENTIFICACIÓN» con los datos generales del proyecto, los proponentes de México y Chile y, si la hay, la institución asociada. Los campos con fondo celeste son de llenado; varios campos cuentan con listas desplegables (área temática, ODS, país, SI/NO). El área temática del proyecto se selecciona desde la lista desplegable, y la lista de metas según el ODS prioritario (ver hoja «METAS ODS»).
A20: Paso 2 | B20: Complete la hoja «2. JUSTIFICACIÓN»: contexto, problemática específica (línea base) y análisis de desigualdad, por país (máx. ½ página por subsección y país, con datos estadísticos).
A21: Paso 3 | B21: Complete la hoja «3. ESTRUCTURACIÓN»: estrategia de intervención, vinculación con políticas públicas, actores, beneficiarios desagregados por sexo (con totales automáticos), localización, enfoque de inclusión y equidad (preguntas SI/NO) sostenibilidad y seguimiento. El Marcador de Género es autoasignado por los proponentes y se traslada automáticamente a la HOJA 6. Ficha Resumen.
A22: Paso 4 | B22: Complete la hoja «4. MARCO LÓGICO» siguiendo las hojas «ORIENTACIONES ML» y «EJEMPLO ML». El título del proyecto se completa automáticamente desde la hoja «1. Identificación» El Objetivo General y el Objetivo del Proyecto SE REDACTAN EN ESTA HOJA 4 y se trasladan automáticamente a la Hoja 5. POG y a la Hoja 6. Ficha Resumen, al igual que los resultados y actividades. En el marco lógico existe espacio para 4 resultados y 5 actividades por resultado; puede insertar filas adicionales. En caso de agregar nuevas filas, debe asegurarse que la información se refleje en los espacios de las hojas vinculadas y de la correcta suma de los montos asociados en cada apartado. Para mayor información ver hoja «ORIENTACIONES ML»
A23: Paso 5 | B23: Complete la hoja «5. POG». Los títulos de cada Resultado y Actividad se trasladan automáticamente desde la hoja 4. Marco Lógico; desglose los insumos, seleccione la MODALIDAD en la lista desplegable de cada fila y marque con «X» (desplegable) los meses de ejecución. Verifique el PANEL DE CONTROL al pie: totales, tope de USD 250.000 para el proyecto y los topes máximos de 25% para Estudios/Consultorías IMPORTANTE: En caso de existir la contratación de persona natural o jurídica que se requiera para desarrollar cualquier producto y que se encuentre catalogado en una modalidad distinta a Estudios/Consultorías, su costo será considerado como parte del 25% asignado a este ítem y será declarado fuera de bases y eliminado del proceso.
A24: Paso 6 | B24: Revise la hoja «6. FICHA RESUMEN»: se genera automáticamente con el título, proponentes, área temática, objetivos, resultados, aporte solicitado al Fondo (desde el POG), duración, Marcador de Género y beneficiarios/as totales desagregados por sexo. No requiere llenado; verifíquela antes de enviar.Si algún dato no se autocompletó, se debe agregar manualmente.
A25: Documentos requeridos | B25: 1) Este Formato Único de Postulación (Excel editable). 2) Carta de presentación de la institución chilena (PDF, firmada por la autoridad superior). 3) Carta de presentación de la institución mexicana (PDF, firmada por la autoridad superior). 4) Carta(s) de institución(es) asociada(s) no gubernamental(es), si las hay, señalando participación sin fines de lucro (PDF).
A26: Presentación del proyecto a la Convocatoria 2026 | B26: La propuesta completa se envía por correo electrónico a fondo.chile.mexico@agcid.gob.cl con el asunto "Aplicación a Convocatoria Chile–México 2026", según lo dispuesto en las Bases de la Convocatoria 2026 (del 24 agosto al 30 de octubre).

Sheet 1. IDENTIFICACIÓN
A1: 1. IDENTIFICACIÓN DEL PROYECTO
A2: Datos generales — Convocatoria 2026 · Fondo Conjunto de Cooperación Chile – México
A4: RESUMEN
A5: Fecha de presentación | B5: 46259 | C5: Formato dd/mm/aaaa
A6: Título del proyecto | B6: Alianza estratégica para el fortalecimiento de las capacidades de vigilancia de micotoxinas en Chile y México: una mirada hacia la salud pública y la seguridad alimentaria | C6: Debe ser idéntico en el Marco Lógico y en el POG (se traslada automáticamente).
A7: Área temática prioritaria a la que contribuye el proyecto | B7: 3. Ciencia, Tecnología e Innovación | C7: Seleccionar SÓLO UNA de las 5 áreas temáticas 2026–2030 (lista desplegable).
A8: ODS prioritario al que contribuye el proyecto | B8: ODS 3. Salud y bienestar | C8: Lista desplegable · Agenda 2030.
A9: Meta específica del ODS prioritario | B9: Meta 3.9 — Reducir las muertes por productos químicos peligrosos y contaminación del aire, agua y suelo | C9: Meta especifica del ODS prioritario seleccionado. Consulte el detalle en la hoja «METAS ODS».
A10: ODS complementario (si corresponde) | B10: ODS 5. Igualdad de género | C10: Lista desplegable · Agenda 2030.
A11: Duración total del proyecto (meses) | B11: 24 | C11: Número de meses, máximo 24 (coherente con el cronograma Año 1 / Año 2 del POG). Se traslada a la Ficha Resumen.
A12: IDENTIFICACIÓN DEL PROPONENTE EN MÉXICO
A13: Nombre legal de la institución | B13: Centro de Investigación en Alimentación y Desarrollo A.C. (CIAD)
A14: Misión principal de la institución | B14: Contribuimos al desarrollo sustentable y al bienestar de la sociedad en las áreas de alimentación, nutrición, salud, desarrollo regional y recursos naturales mediante la generación, aplicación y difusión de conocimiento científico-tecnológico, la innovación y la formación de recursos humanos de alto nivel.
A15: Tipo y nivel al que pertenece la institución | B15: Centro Público de Investigación (CPI) perteneciente al Consejo Nacional de Humanidades, Ciencias y Tecnologías (CONAHCYT), órgano del Gobierno Federal. Nivel: central. | C15: Tipo: Secretaría, Gobierno Estatal y/o municipal, Sociedad Civil, ONG, Academia. Nivel: central o regional.
A16: Dirección postal | B16: Carretera Gustavo Enrique Astiazarán Rosas N° 46, Col. La Victoria, C.P. 83304, Hermosillo, Sonora, México.
A17: Teléfono | B17: (011-52) 662-2892400
A18: Sitio Web | B18: www.ciad.mx
A19: Correo electrónico | B19: dgeneral@ciad.mx
A20: Autoridad responsable de la institución — Nombre y Cargo | B20: Directora General
A21: Unidad ejecutora y autoridad responsable de la Unidad — Nombre, Cargo, Dirección, Teléfono, Correo | B21: CIAD-Guaymas. Autoridad responsable: Coordinadora. Dirección: Carr. al Varadero Nacional Km 6.6, Col. Las Playitas, Guaymas, Sonora, México, C.P. 85480. Teléfono: (011-52) 622-2252828. Correo: autoridad@ciad.mx
A22: Jefe/a del Proyecto — Nombre, Cargo, Estudios, Sexo, Edad | B22: Coordinadora CIAD-Guaymas — Estudios: Postgrado, Doctorado — Sexo: Femenino — Edad: 50 | C22: La información de rango etario, nivel educativo, es opcional y sólo para fines estadísticos.
A23: Datos de contacto del Jefe/a del Proyecto — Teléfono y Correo electrónico | B23: Teléfono: (011-52) 622-2252828 — Correo electrónico:jefedeproyecto@ciad.mx
A24: IDENTIFICACIÓN DEL PROPONENTE EN CHILE
A25: Nombre legal de la institución | B25: Secretaría Regional Ministerial (Seremi) de Salud, Región Metropolitana (RM)
A26: Misión principal de la institución | B26: Contribuir a elevar el nivel de salud en la población; desarrollar armónicamente los sistemas de salud, centrados en las personas; fortalecer el control de los factores que puedan afectar la salud y reforzar la gestión de la red nacional de atención. Todo aquello para acoger oportunamente las necesidades de las personas, familias y comunidades, con la obligación de rendir cuentas a la ciudadanía y promover la participación de estas en el ejercicio de sus derechos y deberes.
A27: Tipo y nivel al que pertenece la institución | B27: Ministerio de Salud — Secretaría Regional Ministerial, Región Metropolitana. Unidad: Departamento Laboratorio de Salud Pública, Ambiental y Laboral (LABSPAL). Nivel: regional, con alcance nacional por su responsabilidad sobre el Plan Nacional de Micotoxinas. | C27: Tipo: Ministerio, Servicio, Gobierno regional, Municipio, Sociedad Civil, ONG, Academia. Nivel: central o regional.
A28: Dirección postal | B28: Región Metropolitana, Chile — Código postal 8330339
A29: Teléfono | B29: +56 22 566 7701
A30: Sitio Web | B30: www.asrm.cl
A31: Correo electrónico | B31: autoridad@redsalud.gob.cl
A32: Autoridad responsable de la institución — Nombre y Cargo | B32: Secretario Regional Ministerial de Salud, Región Metropolitana
A33: Unidad ejecutora y autoridad responsable de la Unidad — Nombre, Cargo, Dirección, Teléfono, Correo | B33: Departamento Laboratorio de Salud Pública, Ambiental y Laboral (LABSPAL). Autoridad responsable: Jefa de Departamento. Dirección: código postal 8330617, Región Metropolitana. Teléfono: +56 22 568 8418. Correo: maricel.vidal@redsalud.gob.cl
A34: Jefe/a del Proyecto — Nombre, Cargo, Estudios, Sexo, Edad | B34: Investigadora del Subdepartamento de Vigilancia Química — Estudios: Postgrado, Magíster — Sexo: Femenino — Edad: 39 | C34: La información de rango etario, nivel educativo, es opcional y sólo para fines estadísticos.
A35: Datos de contacto del Jefe/a del Proyecto — Teléfono y Correo electrónico | B35: Teléfono: +56 22 568 8415 — Correo electrónico: jefedeprooyectos@redsalud.gob.cl
A37: INSTITUCIÓN ASOCIADA (SI LA HAY)
A38: Complete sólo si el proyecto incluye institución(es) asociada(s). Las instituciones asociadas no gubernamentales participan sin fines de lucro y deben adjuntar carta suscrita por su Jefe Superior o Representante Legal (PDF). Si hay más de una institución asociada, duplique este bloque a continuación.
A39: Nombre legal de la institución asociada | B39: Universidad Politécnica del Mar y la Sierra (UPMYS)
A40: País | B40: México | C40: Lista desplegable.
A41: Tipo y nivel al que pertenece la institución | B41: Academia — Universidad Estatal. Nivel: estatal/regional (Sinaloa). | C41: Tipo: Secretaría / Ministerio, Gobierno estatal o regional, Municipio, Sociedad Civil, ONG, Academia. Nivel: central o regional.
A42: Misión principal de la institución | B42: La UPMYS es una institución de educación superior de calidad, competitiva e innovadora de la región Elota-Piaxtla; que se posiciona internacionalmente estableciendo compromisos sociales para el desarrollo sustentable con soluciones basadas en el pensamiento crítico y la aplicación de la ciencia en los procesos de la cadena productiva, el diseño e implementación de estrategias económico-administrativas; y así asegurar la formación integral de profesionales con capacidades y competencias que respondan a los desafíos que se presentan en las organizaciones locales y globales.
...

Sheet 2. JUSTIFICACIÓN
A1: 2. JUSTIFICACIÓN DEL PROYECTO
A2: Convocatoria 2026 · Fondo Conjunto de Cooperación Chile – México — Apartados 2.1 a 2.3
A4: Extensión máxima: ½ página por subsección y por país. Utilice datos estadísticos y fuentes verificables donde sea posible.
A6: 2.1 CONTEXTO DEL PROYECTO / INTRODUCCIÓN
A7: Marco político, institucional, económico y social donde se sitúa el proyecto en cada país.
A8: Contexto en México (Máx. ½ página) | B8: El acelerado desarrollo industrial y los efectos del cambio climático se han posicionado como una seria amenaza para la salud humana y ambiental a nivel global. Las micotoxinas son uno de los grandes grupos de contaminantes que proliferan de forma natural en productos agroalimentarios como harinas, especias, granos y frutos secos; se estima que un 25% del total de los cultivos del mundo está contaminado con micotoxinas, y se caracterizan por su potencial mutagénico, nefrotóxico y cancerígeno. México es un gran consumidor de productos a base de harina de trigo y maíz y de especias, con una población aproximada de 128 millones de habitantes. En México son pocos los estudios sobre micotoxinas, pero ya se ha evidenciado la presencia de aflatoxina B1 y fumonisinas, principalmente en maíz o sus derivados, como la tortilla de maíz, con un consumo de 325 g/día por persona. Las únicas micotoxinas legisladas son las aflatoxinas en cereales (20 ng g-1) y maíz (12 ng g-1), aunque existen proyectos de ley en la materia que esperan ser legislados. Ante este escenario, el esfuerzo conjunto entre el sector público y privado en la generación de información científica, a través del fomento de programas de vigilancia de micotoxinas, permitirá desarrollar e instalar las capacidades humanas e instrumentales.
A9: Contexto en Chile (Máx. ½ página) | B9: Agencias intergubernamentales han desarrollado estrategias tendientes a monitorear, regular y mitigar los niveles y tipos de contaminantes ambientales con un enfoque multidisciplinario hacia la seguridad alimentaria y la salud pública. The Lancet Commission on Pollution and Health evidencia que la contaminación ambiental asociada al cambio climático es considerada el mayor factor de riesgo ambiental para la incidencia de enfermedades y muertes prematuras en el mundo, que en la actualidad exceden los 9 millones. La variabilidad en las condiciones climáticas (estaciones húmedas y secas) asociada con el cambio climático, sumada a las malas prácticas de almacenamiento, favorece la proliferación natural de micotoxinas en los alimentos. Chile es un gran consumidor de productos a base de harina de trigo y maíz, al igual que de especias, con una población aproximada de 19 millones de habitantes. En Chile las micotoxinas son reguladas por el Reglamento Sanitario de los Alimentos (RSA), con estándares similares a los de organismos internacionales, a través del Plan Nacional de Micotoxinas (PNM) ejecutado por el Laboratorio de Salud Pública, Ambiental y Laboral (LABSPAL) de la Seremi de Salud de la Región Metropolitana.
A11: 2.2 PROBLEMÁTICA ESPECÍFICA — LÍNEA BASE
A12: Relaciones causa-efecto. Diagnóstico preciso de la situación inicial que el proyecto busca mejorar.
A13: Problema en México (Máx. ½ página) | B13: En México se tienen datos registrados sobre algunos ciclos agrícolas del cultivo de maíz en los cuales se detectó contaminación con aflatoxinas. En 1989, en el estado de Tamaulipas, se observó maíz contaminado desde el campo: muestreos previos a su almacenamiento reflejaron concentraciones de 45 a 65 mg de AFB1/kg y, tras dos meses almacenado en condiciones de alta temperatura y humedad, alcanzó niveles >250 mg de aflatoxina B1/kg. En 1991, en Monterrey, se analizaron muestras de maíz de distintos puntos de distribución y se detectaron micotoxinas en un 87% de las muestras. En 2001 se analizó maíz almacenado en Guanajuato, que presentó contaminación de aflatoxinas relacionada con condiciones inadecuadas de almacenaje. A pesar de estos problemas, existe poca vigilancia de los productos alimenticios: en el caso de la tortilla hay un proyecto de ley que pediría certificado de calidad de la masa incluyendo aflatoxinas totales, pero con una periodicidad de dos veces al año, lo que resulta insuficiente y constituye un riesgo para los consumidores. La generación de políticas públicas y de un plan nacional de monitoreo para la regulación de micotoxinas debe abordarse con urgencia, ya que estos contaminantes se asocian a enfermedades de alta prevalencia en la población mexicana, como el cáncer: de acuerdo con el INEGI, en 2021 se registraron 90 mil defunciones por tumores malignos. Los productores y la población consumidora carece de tecnicas de manejo para la identificacion y prevención de micotoxinas.
A14: Problema en Chile (Máx. ½ página) | B14: En el último año el cáncer se ha convertido en la primera causa de muerte en Chile, superando a las enfermedades cardiovasculares y constituyéndose en un problema de salud pública. Con la finalidad de reducir su incidencia, el Plan Nacional de Micotoxinas (PNM) monitorea la presencia de un grupo seleccionado de micotoxinas (cancerígenas) en productos agroalimentarios. Sin embargo, conforme al artículo 169 del Reglamento Sanitario de los Alimentos (RSA), sólo 6 de 7 micotoxinas son monitoreadas, excluyendo a la fumonisina, micotoxina prevalente en productos derivados del trigo y el maíz. Incrementar el alcance de las metodologías disponibles hacia nuevas micotoxinas y nuevos productos agroalimentarios (veganos y vegetarianos) permitirá proteger a la población chilena, disminuir la incidencia de cáncer y evitar el aumento del gasto fiscal en salud. El conjunto de acciones permitirá promover la discusión sobre una potencial política pública asociada a un problema de salud pública que está impactando actualmente a la población chilena. Los productores y la población consumidora carece de tecnicas de manejo para la identificacion y prevención de micotoxinas.
A16: 2.3 ANÁLISIS INTERSECCIONAL DE INCLUSIÓN DE GRUPOS POBLACIONALES IMPLICADOS
A17: El proyecto deberá incluir un diagnóstico que identifique de manera desagregada los impactos, necesidades y barreras de participación de la población beneficiaria (diferenciando por sexo, edad y situación de vulnerabilidad), asegurando que el diseño del proyecto promueva la equidad y mitigue las desigualdades identificadas.
A18: Análisis en México (Máx. ½ página) | B18: En México el cáncer se encuentra dentro de las principales causas de muerte a nivel nacional: en 2019 se reportó que, de cada 100 egresos hospitalarios por tumores malignos, los más frecuentes correspondían a tejidos linfoides, hígado, riñón y tejidos hematopoyéticos. México aún no cuenta con un plan nacional de monitoreo ni con regulación vigente, excepto para aflatoxinas, y no existen métodos de laboratorio normados para su determinación o los existentes son insuficientes y obsoletos. La exposición a micotoxinas representa mayores riesgos para las mujeres: el consumo de alimentos contaminados por parte de mujeres embarazadas puede tener efectos perjudiciales en sus procesos gestacionales; además, las mujeres poseen un rol central en la disponibilidad de alimentos, ya que contribuyen con una parte importante del trabajo agrícola, poseen conocimientos sobre prácticas tradicionales y asumen la mayoría de las tareas de preparación de alimentos y de cuidados dentro de los hogares. La FAO ha indicado que la prevalencia de inseguridad alimentaria en América Latina y el Caribe es un 11,3% mayor en mujeres que en hombres, lo que se explica por las brechas en el acceso a recursos productivos y los mayores índices de pobreza que les afectan. El proyecto interviene en regiones con población campesina e indígena en las que las mujeres tienen un rol central en los procesos agrícolas: el Valle del Mezquital (Hidalgo), donde las mujeres otomíes están expuestas a estos metabolitos, y el municipio de Elota (Sinaloa), con alta población jornalera temporal y permanente.
A19: Análisis en Chile (Máx. ½ página) | B19: En los últimos años el cáncer se ha convertido en la primera causa de muerte en la población chilena, superando a las enfermedades cardiovasculares. La mayor tasa de mortalidad se presenta en hombres (128.042) comparada con mujeres (117.207), siendo el cáncer de estómago el más prevalente en hombres (21.846) que en mujeres (10.952) en todo el rango etario. Las regiones con mayor prevalencia para ambos sexos son: Metropolitana (1°), Valparaíso (2°), Biobío (3°), Araucanía (4°), Los Lagos (5°) y O’Higgins (6°). El PNM, durante el periodo 2016-2023, ha reportado un 70% del total de muestras como positivas (> límite de detección) para aflatoxinas y ocratoxina A, y durante 2022-2023 la frecuencia de detección aumentó en un 150%, generando una condición de riesgo para la población chilena, especialmente en la zona centro-sur del país (85%). El fortalecimiento del PNM permitirá reducir los tiempos de respuesta para los requerimientos de análisis por regiones. Adicionalmente, es necesario analizar el impacto de las micotoxinas desde una perspectiva de género, ya que la exposición a estos metabolitos representa mayores riesgos para las mujeres, en particular durante el embarazo y la lactancia, y por su rol central en el trabajo agrícola, la preparación de alimentos y las tareas de cuidado.

Sheet 3. ESTRUCTURACIÓN
A1: 3. ESTRUCTURACIÓN DEL PROYECTO (CONSTRUCCIÓN CONJUNTA)
A2: Convocatoria 2026 · Fondo Conjunto de Cooperación Chile – México — Apartados 3.1 a 3.8
A4: Todos los elementos de esta sección deben formularse conjuntamente entre las instituciones de ambos países.
A6: 3.1 ESTRATEGIA GENERAL DE INTERVENCIÓN
A7: Máximo ½ página por pregunta.
A8: ¿Cómo contribuirá el proyecto a solucionar el problema diagnosticado en ambos países? | B8: La propuesta se centra en fortalecer el Plan Nacional de Micotoxinas (PNM) en Chile y promover su implementación en México, considerando la carencia o falta de conocimiento existente en México para la problemática expuesta, aun cuando tiene un alto impacto en la salud humana. En Chile se fortalecerá el PNM con el objetivo de cumplir en un 100% con el Reglamento Sanitario de los Alimentos (RSA) para micotoxinas y, paralelamente, explorar nuevas matrices alimentarias no consideradas, como los alimentos para veganos y vegetarianos que promueven el consumo de proteínas (legumbres). La ejecución en Chile se desarrollará en su totalidad en la Seremi de Salud RM en conjunto con la Universidad Bernardo O’Higgins. En México se realizará el montaje de las técnicas desarrolladas y validadas en el Laboratorio Nacional para Investigación en Inocuidad Alimentaria (LANIIA), ubicado en CIAD Culiacán. El resultado técnico se centra en la generación de un protocolo y/o manual para el análisis de grupos de micotoxinas en diferentes matrices alimentarias, que quedará a disposición de las entidades participantes, y permitirá congregar la atención de los tomadores de decisiones para discutir una potencial política pública que resguarde la salud pública y fomente la implementación de las metodologías en otras instituciones del Estado o en el sector privado. Generación de un Modelo de vigilancia para la identificación de micotoxinas difundido para su replicabilidad y mejora continua en las instituciones vinculadas y en las agrupaciones productivas de cada pais.
A9: ¿Cómo el Proyecto promoverá el fortalecimiento institucional, sectorial y/o comunitario (políticas o programas y el desarrollo de capacidades institucionales para mejorar la calidad de los bienes y servicios a la ciudadanía en ambos países? | B9: La propuesta aborda directamente uno de los principales factores de riesgo asociados con la incidencia del cáncer: el consumo de alimentos contaminados con micotoxinas, reconocidas por su potencial cancerígeno. El fortalecimiento del PNM permitirá cumplir 100% con el RSA, cubriendo los grupos de micotoxinas de interés global, y explorar nuevas matrices alimentarias asociadas a nuevos grupos de consumidores. El conjunto de acciones permitirá visibilizar la problemática, fomentar la colaboración social y promover acciones tendientes a orientar una futura política pública. En México, el Servicio Nacional de Sanidad, Inocuidad y Calidad Agroalimentaria (SENASICA) es el organismo encargado de vigilar la inocuidad de los alimentos; sin embargo, su infraestructura no es suficiente para cubrir toda la demanda, por lo que se apoya en laboratorios nacionales. Una forma de fortalecer este sistema es mediante una red de laboratorios capacitados para la detección de micotoxinas que contribuya con la vigilancia, que es lo que se busca lograr con este proyecto. Una vez logrado el montaje y validación de las técnicas analíticas en México se podrá tener acercamiento con los tomadores de decisiones para proponer el establecimiento de un plan de monitoreo y generar políticas públicas para su regulación en diversos alimentos de alto consumo.
A11: 3.2 VINCULACIÓN CON POLÍTICAS PÚBLICAS Y ODS
A12: Máximo ½ página por país. Indique las políticas, planes o programas nacionales, estatales/regionales o sectoriales a los que contribuye el proyecto, y su vinculación con el ODS prioritario y la meta seleccionados en la hoja «1. IDENTIFICACIÓN».
A13: Vinculación con políticas públicas en México (nacionales, estatales y/o sectoriales) | B13: En México se han impulsado los Programas Nacionales Estratégicos a través del Consejo Nacional de Humanidades, Ciencias y Tecnologías (CONAHCYT). La presente propuesta se enmarca en cuatro de ellos: 1) Soberanía alimentaria; 2) Salud; 3) Agentes tóxicos y procesos contaminantes; y 4) Sistemas socioecológicos y sustentabilidad, alineados al ODS 3 de la Agenda 2030. Asimismo, se alinea con la Política Nacional de Salud (2020-2024), estrategia enfocada a prevenir enfermedades, promover la salud y procurar el bienestar de las familias mexicanas. El proyecto permitirá incidir en una población con alta marginación que enfrenta problemas por la contaminación del maíz y otros cultivos agrícolas con micotoxinas, y contribuirá a mejorar las condiciones de salud de las mujeres indígenas del Valle del Mezquital (Hidalgo) y de las y los jornaleros agrícolas del municipio de Elota (Sinaloa). El laboratorio de plaguicidas del CIAD forma parte de la red de laboratorios nacionales de CONAHCYT, y sus resultados podrán presentarse ante instancias regulatorias como COFEPRIS, encargada de proteger a la población contra riesgos sanitarios.
A14: Vinculación con políticas públicas en Chile (nacionales, regionales y/o sectoriales) | B14: En Chile el cáncer constituye la primera causa de muerte, siendo un problema de salud pública prioritario. Uno de los desafíos que el país debe asumir es impulsar y garantizar acciones relacionadas con su control mediante políticas y programas que reduzcan la incidencia y mortalidad y mejoren la calidad de vida de las personas que la padecen. Los esfuerzos se han centrado en los Objetivos Sanitarios de la década 2021-2030 (Medio Ambiente y Entorno Saludable; Estilos de Vida; Enfermedades Crónicas No Transmisibles y Violencia), enmarcando su desarrollo en el Plan Nacional de Salud y considerando los ODS de las Naciones Unidas 2030 (ODS 17: Alianzas para lograr los objetivos; ODS 10: Reducción de las desigualdades; ODS 5: Igualdad de género). El proyecto se articula directamente con el Plan Nacional de Micotoxinas (PNM), ejecutado por el LABSPAL de la Seremi de Salud RM en el marco del artículo 169 del Reglamento Sanitario de los Alimentos, y tributa a la Política Nacional de Género en Ciencia, Tecnología, Conocimiento e Innovación.
A16: 3.3 ACTORES INVOLUCRADOS
A17: Máximo 8 líneas por pregunta.
A18: ¿Qué actores son responsables de la ejecución y cuál es su rol en el proyecto? | B18: Ámbito sectorial: organismos públicos y privados de Chile y México. Ámbito temático: inocuidad alimentaria / agricultura. En Chile: la Secretaría Regional Ministerial de Salud RM (LABSPAL) es la institución ejecutora, responsable del diseño, supervisión, implementación, monitoreo y puesta en marcha de las técnicas analíticas para micotoxinas, de la participación en actividades de intercambio con colegas mexicanos y visitas a laboratorios de referencia, de la participación en pruebas interlaboratorio, de la elaboración de informes y apoyo administrativo, y de la difusión de resultados; la Universidad Bernardo O’Higgins (CIRENYS) brinda apoyo científico-técnico en todas las actividades. En México: el Centro de Investigación en Alimentación y Desarrollo (CIAD) —Laboratorio de análisis de residuos de plaguicidas de CIAD Culiacán, Coordinación Regional Hidalgo y Coordinación Regional Guaymas— es la institución ejecutora, con las mismas responsabilidades de diseño, implementación, intercambio, pruebas interlaboratorio e informes; la Universidad Politécnica del Mar y la Sierra (UPMYS) brinda apoyo científico-técnico en todas las actividades del proyecto.
A19: Si hay alianzas entre múltiples instituciones, ¿cómo se interrelacionan para una gestión eficiente? | B19: En Chile, la interrelación se articula mediante el Plan Nacional de Micotoxinas ejecutado por la Seremi de Salud RM y asesorado por la Universidad Bernardo O’Higgins. En México, a través de convenios de colaboración entre la entidad principal (CIAD) y los centros de investigación y/o universidades participantes. La gestión conjunta entre ambos países se realiza mediante reuniones de coordinación en línea (inicial, intermedia y de comparación de resultados), misiones de expertos recíprocas y ensayos de intercomparación, lo que asegura trazabilidad técnica y transparencia en el uso de los recursos.
A20: (Sólo Academia/Universidades) ¿Cómo se coordinan con el sector gubernamental para transferir los resultados? (Omitir si no aplica) | B20: La UBO (CIRENYS) actúa como contraparte académica de la Seremi de Salud RM: los protocolos validados se instalan en el área de Aseguramiento de la Calidad del LABSPAL y quedan anclados al PNM, de modo que el conocimiento generado se transfiere directamente al servicio público que ejecuta la política. En México, el CIAD —centro público de investigación perteneciente a CONAHCYT— transfiere las capacidades analíticas desde CIAD Culiacán a las sedes de Hermosillo, Guaymas e Hidalgo y a la institución asociada UPMYS, y presenta los resultados ante instancias regulatorias como SENASICA y COFEPRIS para promover el establecimiento de un plan nacional de monitoreo. Ambos países contemplan actividades tempranas de vinculación con las instituciones gubernamentales: reuniones de coordinación, seminarios de difusión con funcionarios públicos y entrega del dosier de protocolos estandarizados.
A22: 3.4 BENEFICIARIOS DIRECTOS E INDIRECTOS
A23: Identifique instituciones, áreas y número de personas desagregado por sexo. Debe ser coherente con el campo resumen de la hoja «1. IDENTIFICACIÓN».
A24: ¿A qué Institución/Área/Comunidad pertenecen los beneficiarios directos e indirectos? | B24: País | C24: N° Hombres | D24: N° Mujeres
A25: BENEFICIARIOS DIRECTOS (durante la ejecución del proyecto)
A26: Departamento Laboratorio de Salud Pública, Ambiental y Laboral (LABSPAL), Seremi de Salud RM — extensible a otras Seremis regionales | B26: Chile | C26: 8 | D26: 17
A27: Universidad Bernardo O’Higgins — Centro de Investigación en Recursos Naturales y Sustentabilidad (CIRENYS) | B27: Chile | C27: 10 | D27: 11
A28: Equipos tomadores de decisión (Subsecretaría de Salud Pública y gabinete) y equipos técnicos de políticas públicas (División de Políticas Públicas Saludables y Promoción, MINSAL) | B28: Chile | C28: 51 | D28: 60
A29: CIAD — sede Culiacán (Laboratorio Nacional para Investigación en Inocuidad Alimentaria, LANIIA), extensible a las sedes de Hermosillo, Guaymas e Hidalgo | B29: México | C29: 18 | D29: 20
A30: Universidad Politécnica del Mar y la Sierra (UPMYS), equipos tomadores de decisión y equipos técnicos de políticas públicas | B30: México | C30: 14 | D30: 14
A31: Subtotal | C31: =SUM(C26:C30) -> 101 | D31: =SUM(D26:D30) -> 122
A32: BENEFICIARIOS INDIRECTOS (a mediano y largo plazo)
A33: Población nacional (rural, urbana y de pueblos originarios) como potencial consumidora | B33: Chile | C33: 9662538 | D33: 10097253
A34: Población nacional (rural y urbana) como potencial consumidora | B34: México | C34: 59881863 | D34: 64872018
A35: Población indígena otomí del Valle del Mezquital (Hidalgo) y población indígena migrante en Elota (Sinaloa) | B35: México | C35: 27331 | D35: 28355
A36: Subtotal | C36: =SUM(C33:C35) -> 69571732 | D36: =SUM(D33:D35) -> 74997626
A37: TOTAL BENEFICIARIOS/AS | C37: =C31+C36 -> 69571833 | D37: =D31+D36 -> 74997748
A39: 3.5 LOCALIZACIÓN
A40: Especificar territorio (nacional, regional, local) en Chile y en México. Máx. ½ página.
A41: Localización en México | B41: Alcance nacional. La ejecución se concentra en el Laboratorio Nacional para Investigación en Inocuidad Alimentaria (LANIIA) del CIAD, sede Culiacán (Sinaloa), donde se realizará el montaje y validación de las técnicas analíticas, con transferencia posterior a las sedes de Hermosillo (Sonora), Guaymas (Sonora) e Hidalgo, y a la institución asociada Universidad Politécnica del Mar y la Sierra (La Cruz de Elota, Sinaloa), así como a otras instituciones con capacidad de laboratorio interesadas en la transferencia. El muestreo y la incidencia territorial se focalizan en poblaciones de alta marginación: el Valle del Mezquital (Hidalgo), con población indígena otomí, y el municipio de Elota (Sinaloa), con alta población jornalera agrícola temporal y permanente.
A42: Localización en Chile | B42: Alcance nacional con ejecución en la Región Metropolitana. La propuesta se desarrollará completamente en el LABSPAL de la Región Metropolitana, dependiente de la Secretaría Regional Ministerial de Salud, cuyos investigadores estarán a cargo de desarrollar y validar las metodologías analíticas. Dado que esta región es la responsable del Plan Nacional de Micotoxinas, los resultados (capacidades instrumentales y humanas) son aplicables a la totalidad de la población chilena con una mirada hacia la seguridad alimentaria. El alcance puede extenderse a otras regiones e instituciones interesadas mediante la asesoría técnica de los investigadores de la Seremi RM. Complementariamente, la Universidad Bernardo O’Higgins (CIRENYS) participa desde Santiago Centro, Región Metropolitana.
A44: 3.6 ENFOQUE DE INCLUSIÓN+EQUIDAD
A45: Responda cada pregunta con la lista desplegable (SI/NO) y describa el mecanismo cuando sea afirmativo.
A46: ¿El proyecto contribuye a reducir desigualdades de grupos específicos de población en desventaja, en términos de recursos, oportunidades y toma de decisiones, desde la perspectiva de mujeres y hombres implicados en el foco de intervención de la iniciativa? | B46: SI | E46: Lista desplegable
A47: En caso afirmativo, ¿cómo? Indicar en qué resultado o componente se integra. | B47: Esta iniciativa contribuirá a reducir las brechas de oportunidades y toma de decisiones entre hombres y mujeres al promover la construcción de equipos de trabajo que fomenten los liderazgos femeninos y estén libres de cualquier tipo de discriminación de género. Al capacitar a los profesionales involucrados en la incorporación de la perspectiva de género a sus actividades técnicas y científicas vinculadas a las micotoxinas, se espera identificar y analizar nuevos impactos diferenciados entre hombres y mujeres derivados de la exposición a estas sustancias. En México se fortalecerán las capacidades técnicas y científicas de instituciones ubicadas en regiones donde la población campesina, especialmente las mujeres indígenas, tiene un rol central en los procesos agrícolas afectados por micotoxinas (Valle del Mezquital, Hidalgo, y municipio de Elota, Sinaloa). Se integra en el Resultado 2 (capacitaciones sobre perspectiva de género y efectos diferenciados) y en el Resultado 3 (difusión y divulgación de información desagregada).
...

Sheet 4. MARCO LÓGICO
A1: 4. MARCO LÓGICO DEL PROYECTO
A2: Nombre del Proyecto | B2: ='1. IDENTIFICACIÓN'!B6 -> Alianza estratégica para el fortalecimiento de las capacidades de vigilancia de micotoxinas en Chile y México: una mirada hacia la salud pública y la seguridad alimentaria
A3: RESUMEN NARRATIVO | C3: Indicadores | D3: Descripción del indicador | E3: Meta intermedia (aplica a nivel de Objetivo del Proyecto y Resultados — dentro del control del proyecto) | F3: Meta final (aplica a nivel de Objetivo del Proyecto y Resultados — dentro del control del proyecto) | G3: Medios de verificación | H3: Supuestos
A4: Objetivo General | B4: Contribuir a la disminuci{on de los riesgos asociados a la exposición a micotoxinas en la salud pública y al fortalecimienot de las sguridad alimentaria en Chile y México | C4: Tasas de incidencia de alertas alimentarias o variación en la cobertura de vigilancia nacional. | D4: Mide el impacto sistémico a nivel país en salud y comercio alimentario. | E4: N/A | F4: Programas de vigilancia incorporan formalmente los nuevos lineamientos de micotoxinas | G4: Informes epidemiológicos anuales; Reportes oficiales de los Ministerios de Salud/Agricultura de ambos países | H4: Las políticas de salud pública y seguridad alimentaria se mantienen prioritarias en ambos gobiernos.
A5: Objetivo del Proyecto (Propósito / Objetivo Específico) | B5: Los porgramas nacionales de vigilancia de micotoxinas en productos de alto consumo en Chile y México operan con capacidades técnicas, instrumentales y humanas según estandares internacionales --Especificamente: Aflatoxinas totales (AFLAT), ocratoxina A (OTA), fumonisina, deoxinivalenol (DON) y zearalenona (ZEN) en matrices agroalimentarias (harinas de trigo, harina de maíz, ají seco, merkén y legumbres)-- | C5: Porcentaje de laboratorios integrados a la red de monitoreo que operan bajo estándares internacionales homologados | D5: Mide la adopción y sostenibilidad de las capacidades instaladas. | E5: 50% de protocolos analíticos aplicados. | F5: 100% de protocolos analíticos aplicados. | G5: Informes institucionales de protocolos aplicados; Base de datos estandarizada en funcionamiento. | H5: Las instituciones mantienen el presupuesto operativo y el personal asignado tras finalizar el proyecto.
A6: RESULTADOS
A7: Resultado 1 | B7: Métodos de análisis validados e implementados para el ensayo de Aflatoxinas totales, Ocratoxina A, Fumonisina, DON y ZEN en muestras de ají seco y harina de trigo y maíz. | C7: Número de métodos analíticos validados por matriz y país. | D7: Conteo de técnicas analíticas críticas que superaron las pruebas de validación. | E7: 50% de los protocolos desarrollados. | F7: 100% de los métodos validados e implementados (Aflatoxinas, OTA, Fumonisina, DON, ZEN). | G7: Carpetas técnicas de validación; Certificados de ensayos de intercomparación. | H7: Los equipos e insumos de laboratorio críticos están calibrados y disponibles a tiempo.
A8: Resultado 2 | B8: Profesionales del sector salud capacitados con enfoque de inclusión y equidad sobre los efectos diferenciados de las micotoxinas en la salud | C8: Porcentaje de profesionales del sector que aprueban la capacitación (30 por país) | D8: Mide la cobertura y asimilación del conocimiento del personal meta. | E8: Programa diseñado y convocatoria lanzada. | F8: 100% del personal clave de las instituciones de Chile y México capacitado. | G8: Listas de asistencia; Evaluaciones de aprendizaje; Certificados emitidos. | H8: Los profesionales cuentan con liberación de tiempo por parte de sus instituciones para asistir.
A9: Resultado 3 | B9: Información técnica generada, sistematizada y difundida (línea base/catastro y análisis de riesgos) para el monitoreo de micotoxinas | C9: Catastro binacional de micotoxinas publicado y validado. | D9: Verifica la existencia del producto de levantamiento de información y análisis de riesgo. | E9: 50% de las muestras recolectadas y analizadas. | F9: 100% de las muestras procesadas, base de datos integrada y artículo científico enviado. | G9: Base de datos estructurada; Documento del Catastro; Comprobante de envío de manuscrito a revista científica. | H9: Las facilidades logísticas y de transporte para el muestreo en terreno no sufren interrupciones extremas.
A10: Resultado 4 | B10: Modelo de vigilancia para la identificación de micotoxinas difundido para su replicabilidad y mejora continua en las instituciones vinculadas y en las agrupaciones productivas de cada pais. | C10: Número de plataformas y eventos de socialización en foros de mejora sectorial y de cooperación sur-sur, que posicionan el modelo desarrollado y la experiencia colaborativa Chile-México, en un periodo de dos años, desde el término del proyecto. | D10: Registra el nivel de socialización y posicionamiento, del modelo y del intercambio de experiencias Chile-México, en redes colaborativos y espacios de cooperaicón en la materia. | E10: 100% proyectado el mapa de ruta de la sistematización y 50% del avance de la misma. | F10: 100% de la sistematización y al estrategia de socialización desarrollada y socializado por lo menos en un sectorial nacional (en ambos países) y en foro regional en América Latina. | G10: Registro de la particiación en plataformas, eventos, foros de socilalización y posicionamiento | H10: Prevalece a niveles subnacionales, nacionales en ambos países, como regional latinoamericano, el interés en el intercembio de experiencias en la mejora de las producciones agroecológicas y posicionamiento de la seguridad alimentaria orgánica.
A11: Resultado 1 | B11: =B7 -> Métodos de análisis validados e implementados para el ensayo de Aflatoxinas totales, Ocratoxina A, Fumonisina, DON y ZEN en muestras de ají seco y harina de trigo y maíz.
A12: Actividad 1.1 | B12: Reunión inicial de coordinación (vía online)
A13: Actividad 1.2 | B13: Pasantía a laboratorios de referencia de micotoxinas
A14: Actividad 1.3 | B14: Implementación, optimización y validación del análisis de fumonisina en harina de maíz, trigo y de de aflatoxinas totales, ocratoxina A, zearalenona y deoxinivalenol en productos de origen vegano (leguminosas)
A15: Actividad 1.4 | B15: Ensayos de intercomparación para aflatoxinas totales, ocratoxina A y fumonisinas, para asegurar la consistencia metodológica entre países.
A16: Actividad 1.5 | B16: Misiones de expertos mexicanos en Chile y Misiones de expertos chilenos en en Mexico para Análisis de ensayos de intercomparación de los productos seleccionados.
A17: Resultado 2 | B17: =B8 -> Profesionales del sector salud capacitados con enfoque de inclusión y equidad sobre los efectos diferenciados de las micotoxinas en la salud
A18: Actividad 2.1 | B18: Diseño curricular del programa formativo unificando los aspectos de vanguardia analítica en micotoxinas y el módulo transversal sobre perspectiva de inclusión y equidad.
A19: Actividad 2.2 | B19: Ejecución de los talleres de capacitación teórico-prácticos dirigidos al personal profesional y técnico de las redes institucionales de ambos países, abordando efectos diferenciados en salud.
A20: Resultado 3 | B20: =B9 -> Información técnica generada, sistematizada y difundida (línea base/catastro y análisis de riesgos) para el monitoreo de micotoxinas
A21: Actividad 3.1 | B21: Recopilación y estructuración final del dosier unificado de protocolos normalizados.
A22: Actividad 3.2 | B22: Diseño metodológico del plan de muestreo
A23: Actividad 3.3 | B23: Ejecución coordinada del plan de muestreo y procesamiento analítico de las matrices en terreno.
A24: Actividad 3.4 | B24: Consolidación de los resultados analíticos en un catastro base y procesamiento estadístico bajo metodologías internacionales de análisis de riesgo de contaminantes alimentarios.
A25: Actividad 3.5 | B25: Sistematización de hallazgos mediante la redacción de un manuscrito científico en modalidad enviado
A26: Actividad 3.6 | B26: Seminario orientado a instancias académicas/públicas para la difusión de resultados del proyecto.
A27: Resultado 4 | B27: =B10 -> Modelo de vigilancia para la identificación de micotoxinas difundido para su replicabilidad y mejora continua en las instituciones vinculadas y en las agrupaciones productivas de cada pais.
A28: Actividad 4.1 | B28: Elaboración material
A29: Actividad 4.2 | B29: Desarrollo de cursos asincronicos de tecnicas de manejo para identificacion y prevencion de micotoxinas
A30: Actividad 4.3 | B30: Seminario difusión en Chile
A31: Actividad 4.4 | B31: Seminario Difusión en México

Sheet 5. POG
A1: 5. PLAN OPERATIVO GLOBAL (POG)
A2: TÍTULO DEL PROYECTO: | B2: ='1. IDENTIFICACIÓN'!B6 -> Alianza estratégica para el fortalecimiento de las capacidades de vigilancia de micotoxinas en Chile y México: una mirada hacia la salud pública y la seguridad alimentaria
A3: OBJETIVO GENERAL: | B3: ='4. MARCO LÓGICO'!B4 -> Contribuir a la disminuci{on de los riesgos asociados a la exposición a micotoxinas en la salud pública y al fortalecimienot de las sguridad alimentaria en Chile y México
A4: OBJETIVO DEL PROYECTO: | B4: ='4. MARCO LÓGICO'!B5 -> Los porgramas nacionales de vigilancia de micotoxinas en productos de alto consumo en Chile y México operan con capacidades técnicas, instrumentales y humanas según estandares internacionales --Especificamente: Aflatoxinas totales (AFLAT), ocratoxina A (OTA), fumonisina, deoxinivalenol (DON) y zearalenona (ZEN) en matrices agroalimentarias (harinas de trigo, harina de maíz, ají seco, merkén y legumbres)--
A6: RESULTADO / ACTIVIDAD | B6: INSUMOS NECESARIOS | C6: MODALIDAD (lista desplegable) | D6: COSTO en USD$ | H6: AÑO 1 — meses | T6: AÑO 2 — meses | AF6: Indicador de cumplimiento de medio término | AG6: Indicador de cumplimiento final | AH6: RESPONSABLE DE LA EJECUCIÓN EN CHILE | AI6: RESPONSABLE DE LA EJECUCIÓN EN MÉXICO | AJ6: Comentarios
D7: Gasto en Chile | E7: Gasto en México | F7: Aporte de Contraparte CHILE | G7: Aporte de Contraparte MÉXICO | H7: 1 | I7: 2 | J7: 3 | K7: 4 | L7: 5 | M7: 6 | N7: 7 | O7: 8 | P7: 9 | Q7: 10 | R7: 11 | S7: 12 | T7: 1 | U7: 2 | V7: 3 | W7: 4 | X7: 5 | Y7: 6 | Z7: 7 | AA7: 8 | AB7: 9 | AC7: 10 | AD7: 11 | AE7: 12
A8: =IF('4. MARCO LÓGICO'!B7="","RESULTADO 1","RESULTADO 1 — "&'4. MARCO LÓGICO'!B7) -> RESULTADO 1 — Métodos de análisis validados e implementados para el ensayo de Aflatoxinas totales, Ocratoxina A, Fumonisina, DON y ZEN en muestras de ají seco y harina de trigo y maíz. | D8: =SUM(D9:D29) -> 80700 | E8: =SUM(E9:E29) -> 73700 | F8: =SUM(F9:F28) -> 0 | G8: =SUM(G9:G28) -> 0 | AF8: ='4. MARCO LÓGICO'!E7 -> 50% de los protocolos desarrollados. | AG8: ='4. MARCO LÓGICO'!F7 -> 100% de los métodos validados e implementados (Aflatoxinas, OTA, Fumonisina, DON, ZEN).
A9: =IF('4. MARCO LÓGICO'!B12="","Actividad 1.1","Actividad 1.1 — "&'4. MARCO LÓGICO'!B12) -> Actividad 1.1 — Reunión inicial de coordinación (vía online) | C9: Participación en reuniones técnicas | D9: 0 | E9: 0 | H9: X
A10: =IF('4. MARCO LÓGICO'!B13="","Actividad 1.2","Actividad 1.2 — "&'4. MARCO LÓGICO'!B13) -> Actividad 1.2 — Pasantía a laboratorios de referencia de micotoxinas | B10: Visita a lab de referencia Trilogy, México – EE.UU. 3 funcionarios x 3 dias, se requiere viaticos y 3 pasajes aéreos ida y vuelta. | C10: Capacitación de recursos humanos | E10: 7500 | S10: X
B11: Visita a lab de referencia Trilogy, Chile – EE.UU. 3 funcionarios x 3 dias, se requiere viaticos y 3 pasajes aéreos ida y vuelta. | C11: Capacitación de recursos humanos | D11: 12500 | S11: X
B12: Celda electroquímica KobraCell® (equipamiento) 1 equipo en Chile y un equipo en México | C12: Equipamiento | D12: 9000 | E12: 9000 | J12: X | K12: X | L12: X | M12: X
B13: Insumos (estándares certificados, solventes, columnas de inmunoafinidad) | C13: Otros | D13: 5000 | E13: 5000 | J13: X | K13: X | L13: X | M13: X
B14: Mantención de equipamiento disponible | C14: Otros | D14: 3000 | E14: 3000 | J14: X | K14: X | M14: X
B15: Insumos cromatográficos (jeringas, filtros, viales) | C15: Otros | D15: 3000 | E15: 3000 | J15: X | K15: X | L15: X | M15: X
B16: Repuestos de equipamiento disponible | C16: Otros | D16: 3000 | E16: 3000 | J16: X | K16: X | L16: X | M16: X
A17: =IF('4. MARCO LÓGICO'!B14="","Actividad 1.3","Actividad 1.3 — "&'4. MARCO LÓGICO'!B14) -> Actividad 1.3 — Implementación, optimización y validación del análisis de fumonisina en harina de maíz, trigo y de de aflatoxinas totales, ocratoxina A, zearalenona y deoxinivalenol en productos de origen vegano (leguminosas) | B17: Insumos (estándares certificados, solventes, columnas de inmunoafinidad) | C17: Otros | D17: 5000 | E17: 5000 | M17: X | N17: X | O17: X | P17: X | Q17: X
B18: Mantención de equipamiento disponible | C18: Otros | D18: 3000 | E18: 3000 | M18: X | N18: X | O18: X | P18: X | Q18: X
B19: Insumos cromatográficos (jeringas, filtros, viales) | C19: Otros | D19: 5000 | E19: 5000 | M19: X | N19: X | O19: X | P19: X | Q19: X
B20: Repuestos de equipamiento disponible | C20: Otros | D20: 2000 | E20: 2000 | M20: X | N20: X | O20: X | P20: X | Q20: X
B21: Insumos (estándares certificados, solventes, columnas de inmunoafinidad) | C21: Otros | D21: 5000 | E21: 5000 | J21: X | K21: X | L21: X | M21: X
B22: Insumos cromatográficos (jeringas, filtros, viales) | C22: Otros | D22: 3700 | E22: 3700 | J22: X | K22: X | L22: X | M22: X
B23: Repuestos de equipamiento disponible | C23: Otros | D23: 2000 | E23: 2000 | J23: X | K23: X | L23: X | M23: X
A24: =IF('4. MARCO LÓGICO'!B15="","Actividad 1.4","Actividad 1.4 — "&'4. MARCO LÓGICO'!B15) -> Actividad 1.4 — Ensayos de intercomparación para aflatoxinas totales, ocratoxina A y fumonisinas, para asegurar la consistencia metodológica entre países. | B24: Material de referencia para aflatoxinas totales en matriz ají seco | C24: Otros | D24: 2000 | E24: 2000 | Q24: X | R24: X
B25: Material de referencia para ocratoxina A en matriz ají seco | C25: Otros | D25: 2000 | E25: 2000 | Q25: X | R25: X
B26: Material de referencia para fumonisina en harina de maíz y harina de trigo | C26: Otros | D26: 2000 | E26: 2000 | Q26: X | R26: X
B27: Material de referencia para análisis de muestras de origen vegano | C27: Otros | D27: 2000 | E27: 2000 | Q27: X | R27: X
A28: =IF('4. MARCO LÓGICO'!B16="","Actividad 1.5","Actividad 1.5 — "&'4. MARCO LÓGICO'!B16) -> Actividad 1.5 — Misiones de expertos mexicanos en Chile y Misiones de expertos chilenos en en Mexico para Análisis de ensayos de intercomparación de los productos seleccionados. | B28: Asistencia tecnica de 3 funcionarios X 5 dias, Mexicanos en Chile, se requiere viaticos y 3 pasajes (CD Mexico Stgo Cd Mexico) | C28: Asesorías (misiones de asistencia técnica) | E28: 9500 | Q28: X
B29: Asistencia tecnica de 3 funcionarios X 5 dias, Chilenos en Mexico, se requiere viaticos y 3 pasajes (Santiago, CD Mexico, Santiago. | C29: Asesorías (misiones de asistencia técnica) | D29: 11500 | P29: X
A30: =IF('4. MARCO LÓGICO'!B8="","RESULTADO 2","RESULTADO 2 — "&'4. MARCO LÓGICO'!B8) -> RESULTADO 2 — Profesionales del sector salud capacitados con enfoque de inclusión y equidad sobre los efectos diferenciados de las micotoxinas en la salud | D30: =SUM(D31:D32) -> 20000 | E30: =SUM(E31:E32) -> 20000 | F30: =SUM(F31:F32) -> 0 | G30: =SUM(G31:G32) -> 0 | AF30: ='4. MARCO LÓGICO'!E8 -> Programa diseñado y convocatoria lanzada. | AG30: ='4. MARCO LÓGICO'!F8 -> 100% del personal clave de las instituciones de Chile y México capacitado.
A31: =IF('4. MARCO LÓGICO'!B18="","Actividad 2.1","Actividad 2.1 — "&'4. MARCO LÓGICO'!B18) -> Actividad 2.1 — Diseño curricular del programa formativo unificando los aspectos de vanguardia analítica en micotoxinas y el módulo transversal sobre perspectiva de inclusión y equidad. | B31: Consultoría especializada para la adaptaciòn de la informaciòn técnica en lenguaje didactico y diseño instruccional | C31: Estudios / Consultoría | D31: 15000 | E31: 15000 | T31: X | U31: X | V31: X | W31: X
A32: =IF('4. MARCO LÓGICO'!B19="","Actividad 2.2","Actividad 2.2 — "&'4. MARCO LÓGICO'!B19) -> Actividad 2.2 — Ejecución de los talleres de capacitación teórico-prácticos dirigidos al personal profesional y técnico de las redes institucionales de ambos países, abordando efectos diferenciados en salud. | B32: Arriendo de salón equipado, Coffe break para 3 dìas y 50 personas por país | C32: Capacitación de recursos humanos | D32: 5000 | E32: 5000 | Y32: X | Z32: X | AA32: X | AB32: X
A33: =IF('4. MARCO LÓGICO'!B9="","RESULTADO 3","RESULTADO 3 — "&'4. MARCO LÓGICO'!B9) -> RESULTADO 3 — Información técnica generada, sistematizada y difundida (línea base/catastro y análisis de riesgos) para el monitoreo de micotoxinas | D33: =SUM(D34:D44) -> 18000 | E33: =SUM(E34:E44) -> 9200 | F33: =SUM(F34:F44) -> 0 | G33: =SUM(G34:G44) -> 0 | AF33: ='4. MARCO LÓGICO'!E9 -> 50% de las muestras recolectadas y analizadas. | AG33: ='4. MARCO LÓGICO'!F9 -> 100% de las muestras procesadas, base de datos integrada y artículo científico enviado.
A34: =IF('4. MARCO LÓGICO'!B21="","Actividad 3.1","Actividad 3.1 — "&'4. MARCO LÓGICO'!B21) -> Actividad 3.1 — Recopilación y estructuración final del dosier unificado de protocolos normalizados. | B34: Diseño e impresión de material de apoyo | C34: Información/difusión | D34: 500 | E34: 500 | S34: X
A35: =IF('4. MARCO LÓGICO'!B22="","Actividad 3.2","Actividad 3.2 — "&'4. MARCO LÓGICO'!B22) -> Actividad 3.2 — Diseño metodológico del plan de muestreo | B35: Trabajo de gabinete | C35: Participación en reuniones técnicas | D35: 0 | E35: 0 | R35: X
A36: =IF('4. MARCO LÓGICO'!B23="","Actividad 3.3","Actividad 3.3 — "&'4. MARCO LÓGICO'!B23) -> Actividad 3.3 — Ejecución coordinada del plan de muestreo y procesamiento analítico de las matrices en terreno. | B36: Insumos para muestreo (bolsas esterilizadas) | C36: Otros | D36: 500 | E36: 500 | S36: X | T36: X | U36: X
B37: Insumos (solventes, columnas de inmunoafinidad) | C37: Otros | D37: 5000 | E37: 5000 | S37: X | T37: X | U37: X
B38: Insumos cromatográficos (jeringas, filtros, viales) | C38: Otros | D38: 2000 | E38: 2000 | S38: X | T38: X | U38: X
A39: =IF('4. MARCO LÓGICO'!B24="","Actividad 3.4","Actividad 3.4 — "&'4. MARCO LÓGICO'!B24) -> Actividad 3.4 — Consolidación de los resultados analíticos en un catastro base y procesamiento estadístico bajo metodologías internacionales de análisis de riesgo de contaminantes alimentarios. | B39: Trabajo de gabinete | C39: Información/difusión | D39: 0 | E39: 0 | U39: X | V39: X
A40: =IF('4. MARCO LÓGICO'!B25="","Actividad 3.5","Actividad 3.5 — "&'4. MARCO LÓGICO'!B25) -> Actividad 3.5 — Sistematización de hallazgos mediante la redacción de un manuscrito científico en modalidad enviado | B40: Trabajo de gabinete | C40: Información/difusión | D40: 0 | E40: 0 | V40: X | W40: X
A41: =IF('4. MARCO LÓGICO'!B26="","Actividad 3.6","Actividad 3.6 — "&'4. MARCO LÓGICO'!B26) -> Actividad 3.6 — Seminario orientado a instancias académicas/públicas para la difusión de resultados del proyecto. | B41: 3 pasajes aéreos Chile – México | C41: Información/difusión | D41: 4500 | AC41: X
...

Sheet 6. FICHA RESUMEN
A1: 6. FICHA RESUMEN DEL PROYECTO
A2: Convocatoria 2026 · Fondo Conjunto de Cooperación Chile – México
A3: Esta ficha se genera AUTOMÁTICAMENTE a partir de los campos previos del formulario (hojas 1 a 5). No requiere llenado: verifique que la información esté completa y correcta antes de enviar la postulación.
A5: Título del proyecto | B5: ='1. IDENTIFICACIÓN'!B6 -> Alianza estratégica para el fortalecimiento de las capacidades de vigilancia de micotoxinas en Chile y México: una mirada hacia la salud pública y la seguridad alimentaria
A6: Institución proponente en Chile | B6: ='1. IDENTIFICACIÓN'!B25 -> Secretaría Regional Ministerial (Seremi) de Salud, Región Metropolitana (RM)
A7: Institución proponente en México | B7: ='1. IDENTIFICACIÓN'!B13 -> Centro de Investigación en Alimentación y Desarrollo A.C. (CIAD)
A8: Área temática | B8: ='1. IDENTIFICACIÓN'!B7 -> 3. Ciencia, Tecnología e Innovación
A9: Objetivo general | B9: ='4. MARCO LÓGICO'!B4 -> Contribuir a la disminuci{on de los riesgos asociados a la exposición a micotoxinas en la salud pública y al fortalecimienot de las sguridad alimentaria en Chile y México
A10: Objetivos del proyecto | B10: ='4. MARCO LÓGICO'!B5 -> Los porgramas nacionales de vigilancia de micotoxinas en productos de alto consumo en Chile y México operan con capacidades técnicas, instrumentales y humanas según estandares internacionales --Especificamente: Aflatoxinas totales (AFLAT), ocratoxina A (OTA), fumonisina, deoxinivalenol (DON) y zearalenona (ZEN) en matrices agroalimentarias (harinas de trigo, harina de maíz, ají seco, merkén y legumbres)--
